BEGIN:VCALENDAR
VERSION:2.0
PRODID:-//JAはが野 - ECPv5.16.4//NONSGML v1.0//EN
CALSCALE:GREGORIAN
METHOD:PUBLISH
X-WR-CALNAME:JAはが野
X-ORIGINAL-URL:https://www.ja-hagano.or.jp
X-WR-CALDESC:Events for JAはが野
BEGIN:VTIMEZONE
TZID:Asia/Tokyo
BEGIN:STANDARD
TZOFFSETFROM:+0900
TZOFFSETTO:+0900
TZNAME:JST
DTSTART:20260101T000000
END:STANDARD
END:VTIMEZONE
BEGIN:VEVENT
DTSTART;TZID=Asia/Tokyo:20260102T080000
DTEND;TZID=Asia/Tokyo:20260531T170000
DTSTAMP:20260423T064706
CREATED:20260101T150005Z
LAST-MODIFIED:20251222T070858Z
UID:11007-1767340800-1780246800@www.ja-hagano.or.jp
SUMMARY:すとろべりーフォト・ムービーコンテスト2026
DESCRIPTION:今年もやります！すとろべりーフォト・ムービーコンテスト！！\n応募は、下記の「すとろべりーフォト・ムービーコンテスト2026応募要項」をお読みの上、ページ最下部の「同意して応募」ボタンをクリックしてください。楽しいイチゴ狩り風景のご応募をお待ちしております！！ \n  \n「すとろべりーフォトコンテスト2026応募要項」 \n応募要項を表示する \n\n\n１．名称\nＪＡはが野すとろべりーフォト・ムービーコンテスト2026\n２．主催\nはが野農業協同組合\n３．概要\nＪＡが運営する「井頭観光いちご園」及び「益子観光いちご団地」で撮影された写真及び動画（以下、作品）を募集するコンテスト。入賞作品をＪＡはが野ウェブサイト等で公開するとともに、来年度のポスターやチラシ、広告に掲載し、イチゴ狩り来場者及び直売所利用者の増加を図るもの。\n４．応募期間\n2026年1月2日（金）～5月31日（日）\n５．応募条件\n・主催者たるＪＡに勤務する者を除き、誰でも応募可能です。\n・2026年産いちご狩り営業開始から終了日までに、井頭観光いちご園または益子観光いちご団地で撮影された作品。\n・応募作品数は、複数部門への応募に制限はありませんが、写真と動画を合わせて１人３点までとします。（複数名義で同じ写真を重複して応募するのは無効といたします）。\n・作品は未発表かつ応募者が一切の著作権を有しているものに限ります。\n・他人が権利を有する著作物や他人の肖像が写っている場合はその著作物の権利者もしくは肖像の本人に事前に承諾を得たもののみ応募可能です。\n・デジタルカメラやスマートフォンなどで撮影したデジタル作品のみ応募可能です。ファイル形式は原則としてJPEG・JPG・MP4・MOVとします。\n以下の作品は応募不可とします。\n・規模の大小を問わず、他のコンテスト等に応募中もしくは応募予定の作品。\n・他のコンテスト等で過去に入賞した作品。\n・審査などの選考が入る写真展等で公開された作品（推薦による公開を含む）。\n・販売、営利目的の写真集や雑誌媒体、ウェブサイト、ブログ、ＳＮＳ等に掲載された作品（個人が非営利目的に運営するウェブサイト、ブログ、ＳＮＳ等に掲載された写真は未発表の作品とみなします）。\n・上記条件に該当する作品と類似した作品（同一の作者が、同一の対象を同じような条件で連続して撮影した前後の作品や作品意図が同一な作品など）。\n・撮影した画像に合成または加工の修正を加えた作品。\n・現像（プリント）した写真やDVDなどのハードメディアでの応募。\n・ＡＩを利用して生成した作品。\n６．賞品\n【写真部門】\n・組合長賞　1点\n（イチゴ狩りチケット5人分+直売所利用券5\,000円分）\n・井頭観光いちご園賞　1点\n（イチゴ狩りチケット5人分+直売所利用券3\,000円分）\n・益子観光いちご団地賞　1点\n（イチゴ狩りチケット5人分+直売所利用券3\,000円分）\n・ＪＡはが野賞　3点\n（イチゴ狩りチケット3人分）\n・未来ちゃん賞　5点\n（イチゴ狩りチケット2人分）\n・ママトコドモト賞　1点\n（イチゴ狩りチケット2人分）\n※情報冊子「ママトコドモト」の表紙になります\n【動画部門】\n・優秀賞　2点\n（イチゴ狩りチケット2人分+直売所利用券2\,000円分）\n※イチゴ狩りは状況により入園できない場合があります。\n※イチゴ狩りチケットは、井頭観光いちご園及び益子観光いちご団地で2027年1月2日から使用可能です（1度の来園で何枚でも使用可能）。\n※直売所利用券は、井頭フレッシュ直売所または益子フレッシュ直売所でのみ使用可能です。お釣りは出せないほか、直売所敷地内で販売する一部商品には使用できない場合があります。\n７．応募方法\nJAはが野ウェブサイトの専用応募フォームから必要事項（住所・氏名(※)・年齢・性別・電話番号・撮影場所・撮影日）を入力の上、作品を添付して応募。\n※ペンネームでの応募も可能ですが、賞品発送時に使用するため、必ず本名も明記したうえで応募してください。ペンネームで応募した場合は、入賞作品発表時にペンネームで表記します。\n８．審査\n【写真部門】\nＪＡはが野代表理事組合長、井頭観光いちご園代表、益子観光いちご団地代表、各支店長、広報担当部署、広報編集委員を中心に審査\n【動画部門】\n広報担当部署を中心に審査\n９．入賞発表\nすべての入賞作品はJAはが野ウェブサイト（8月下旬）にて発表いたします。また、上位作品はJAはが野広報誌9月号においても発表をいたします。動画部門についてはYouTubeに掲載後、ウェブサイトに引用いたします。\n１０．注意事項\n（１）ご応募に伴い発生した一切の費用（データ通信利用料金など）は、応募者の負担となります。\n（２）応募作品の著作権は撮影者に帰属します。\n（３）主催者が応募作品を第三者に営利目的で利用させることはありません。営利目的で利用する場合には、撮影者に事前に目的、条件（有償、無償）を説明した上で、許諾が得られた作品のみを利用します。\n（４）広報物等の制作作業のなかで、作品のイメージを損なわない程度にトリミングや切り抜きなどの加工する場合があります。\n（５）主催者は、応募作品の著作権侵害や応募作品上の人物およびキャラクター、商標建築物などの肖像権侵害に関する責任は一切負いません。\n（６）応募作品に関して、著作権侵害や肖像権侵害など法律上の問題が発生した場合は、応募者自身で対応願います。\n（７）法律や社会的ルールに反するような作品、肖像権やプライバシー侵害にあたる恐れがあると判断される作品の応募はご遠慮ください。\n（８）応募作品および入賞作品の取り扱いには十分注意いたしますが、万一、応募作品または入賞作品に対して、損傷や亡失等が生じた場合であっても主催者は一切の責任を負いません。また、本コンテストの応募または入賞等に関して応募者が何らかの損害を被った場合であっても主催者に故意もしくは重過失のある場合を除き、主催者は一切の責任を負いません。\n（９）システム障害・サーバーメンテナンスの際、事前通知なく一時的な応募・掲示の中断を行うことがあります。\n（10）審査結果に対する異議申し立ては一切受け付けません。また、入賞・落選のお問い合わせはご遠慮ください。\n（11）写真はポスター等で使用する場合があるため、高画質な写真での応募を推奨します。\n（12）動画についてもＪＡの広報活動で使用する場合があるため、画質の良いファイルでの応募を推奨します。また、動画保存システムの上限を鑑み、1ファイル当たり800MBを上限とします。\n１１．応募作品・入賞作品の利用\n作品の応募完了時点で応募者は、主催者に対し本応募要領に同意したと判断するとともに、下記の目的で作品を2026年8月1日から１０年間利用することを許諾します。入賞作品の利用にあたっては撮影者の氏名（またはペンネーム）表示を行います。\n①本コンテストの審査結果の公表\n②主催者が主催するフォトコンテストの告知・宣伝\n③主催者が管理、使用、主催または発行する広報誌、ウェブサイト、印刷物、宣伝広告物、その他デジタルメディアなどにおける入賞作品の表示、掲載、公表、展示、上映かつ、応募者の氏名の公表\n１２．応募作品・入賞作品の無効・取り消し\n本応募要領「４．応募条件」に記載のあるもののほか、以下のものを無効もしくは取り消し処分とします。\n・応募作品またはそれらに写っている著作物・肖像等について、第三者から主催者に苦情、異議申立、使用差止、損害賠償など何らかの請求などがなされた場合、主催者は、応募者の承諾なく、当該応募を無効とし、入賞を取り消す権利を有するものとします。この場合、応募者は、自らの責任と費用負担において、かかる請求などを処理解決し、主催者を免責するものとします。\n・主催者は、応募作品が本応募要領に違反している、または法令などに違反していると合理的に判断した場合、応募者に通知のうえ、当該応募を無効とし、入賞作品の場合は入賞を取り消します。前記に基づき入賞が取り消された場合、入賞者は、主催者に対して賞品、賞状を返還するものとします。返還に伴い発生した一切の費用は、応募者の負担となります。\n１３．個人情報の取り扱いについて\n主催者は、本コンテストの応募に際して応募者から提供いただいた個人情報を本コンテストの運営に必要な範囲内で利用いたします。個人情報をご提供いただけない場合は、本コンテストへの応募の受付ができませんので、ご了承ください。応募者の同意なく前記の利用目的を超えて利用することはありません。また、以下の場合を除き、応募者への同意なく第三者へ開示・提供いたしません。\n・上記利用目的を実施するために、業務委託を行う際に業務委託先企業へ委託する必要がある場合\n・法令に基づく場合\n主催者は応募者の個人情報の紛失・改ざん・漏洩等に対する合理的かつ適切な安全対策を講じ、保管・管理を行います。\n担当部署\nはが野農業協同組合　総合企画部　総務・企画\n\n\n\n \n\n応募フォームがご利用できない方は\nお手数ですが、下記のメールアドレスにお問い合わせ下さい。 \nお問い合わせ先：h.soumu-kouhou@ja-hagano.or.jp
URL:https://www.ja-hagano.or.jp/event/stcon2026
CATEGORIES:すとろべりーフォトコンテスト
END:VEVENT
END:VCALENDAR