BEGIN:VCALENDAR
VERSION:2.0
PRODID:-//JAはが野 - ECPv5.16.4//NONSGML v1.0//EN
CALSCALE:GREGORIAN
METHOD:PUBLISH
X-WR-CALNAME:JAはが野
X-ORIGINAL-URL:https://www.ja-hagano.or.jp
X-WR-CALDESC:Events for JAはが野
BEGIN:VTIMEZONE
TZID:Asia/Tokyo
BEGIN:STANDARD
TZOFFSETFROM:+0900
TZOFFSETTO:+0900
TZNAME:JST
DTSTART:20250101T000000
END:STANDARD
END:VTIMEZONE
BEGIN:VEVENT
DTSTART;TZID=Asia/Tokyo:20251103T090000
DTEND;TZID=Asia/Tokyo:20251103T140000
DTSTAMP:20260423T084354
CREATED:20251001T072341Z
LAST-MODIFIED:20251001T072341Z
UID:10775-1762160400-1762178400@www.ja-hagano.or.jp
SUMMARY:ＪＡまつり【茂木地区】
DESCRIPTION:ＪＡはが野では１１月３日（月・祝）～１１月２３日（日・祝）まで、各地区でＪＡまつりを開きます！ \n１１月３日（月・祝）は茂木地区！茂木支店・茂木地区営農経済センターで開催します！ \nＪＡまつりでは各地区で特色あるイベントや地元農産物の販売の他、「組合員抽選会」や「スタンプラリー」などたくさんの企画をご用意しております！当日は会場周辺で交通渋滞が予想されます。お車でご来場の際は出来るだけ乗り合いでお越しくださいますようお願い申し上げます。 \n詳しくはこちらをクリック！https://www.ja-hagano.or.jp/topics/news/?p=9608
URL:https://www.ja-hagano.or.jp/event/jafestival2025inmotegi
LOCATION:茂木支店・茂木地区営農経済センター\, 増井33-2\, 茂木町\, 栃木県\, 321-3564\, Japan
CATEGORIES:ＪＡまつり
END:VEVENT
END:VCALENDAR